BEGIN:VCALENDAR
VERSION:2.0
PRODID:-//Netzwerk Zukunftsforschung - ECPv5.16.4//NONSGML v1.0//EN
CALSCALE:GREGORIAN
METHOD:PUBLISH
X-ORIGINAL-URL:https://netzwerk-zukunftsforschung.de
X-WR-CALDESC:Events for Netzwerk Zukunftsforschung
REFRESH-INTERVAL;VALUE=DURATION:PT1H
X-Robots-Tag:noindex
X-PUBLISHED-TTL:PT1H
BEGIN:VTIMEZONE
TZID:Europe/Berlin
BEGIN:DAYLIGHT
TZOFFSETFROM:+0100
TZOFFSETTO:+0200
TZNAME:CEST
DTSTART:20260329T010000
END:DAYLIGHT
BEGIN:STANDARD
TZOFFSETFROM:+0200
TZOFFSETTO:+0100
TZNAME:CET
DTSTART:20261025T010000
END:STANDARD
END:VTIMEZONE
BEGIN:VEVENT
DTSTART;TZID=Europe/Berlin:20260429T130000
DTEND;TZID=Europe/Berlin:20260429T140000
DTSTAMP:20260420T120313
CREATED:20260124T141029Z
LAST-MODIFIED:20260130T173647Z
UID:7257-1777467600-1777471200@netzwerk-zukunftsforschung.de
SUMMARY:Eine bibliometrische Analyse der institutionalisierten akademischen Zukunftsforschung 1970 – 2024
DESCRIPTION:Am 29.04.2026 stellt Dr. Julia Koch die Ergebnisse ihrer Masterarbeit vor: „Eine bibliometrische Analyse der institutionalisierten akademischen Zukunftsforschung 1970 – 2024“. Der Vortrag findet im Rahmen des Institutsseminars des Fraunhofer FKIE (vormals Fraunhofer INT) statt. \nDie Teilnahme ist kostenlos. Externe Teilnehmende sind ausdrücklich eingeladen. Weitere Details sowie die Möglichkeit\, sich anzumelden\, finden sich auf der Webseite zum Seminar: https://www.fkie.fraunhofer.de/de/Veranstaltungen/institutsseminar.html
URL:https://netzwerk-zukunftsforschung.de/veranstaltung/eine-bibliometrische-analyse-der-institutionalisierten-akademischen-zukunftsforschung-1970-2024/
LOCATION:Online-Veranstaltung
CATEGORIES:Veranstaltungsempfehlung
ATTACH;FMTTYPE=image/png:https://netzwerk-zukunftsforschung.de/wp-content/uploads/2026/01/Design-ohne-Titel4-e1769794585702.png
END:VEVENT
END:VCALENDAR