BEGIN:VCALENDAR
VERSION:2.0
PRODID:-//Netzwerk Zukunftsforschung - ECPv5.16.4//NONSGML v1.0//EN
CALSCALE:GREGORIAN
METHOD:PUBLISH
X-ORIGINAL-URL:https://netzwerk-zukunftsforschung.de
X-WR-CALDESC:Events for Netzwerk Zukunftsforschung
REFRESH-INTERVAL;VALUE=DURATION:PT1H
X-Robots-Tag:noindex
X-PUBLISHED-TTL:PT1H
BEGIN:VTIMEZONE
TZID:Europe/Berlin
BEGIN:DAYLIGHT
TZOFFSETFROM:+0100
TZOFFSETTO:+0200
TZNAME:CEST
DTSTART:20240331T010000
END:DAYLIGHT
BEGIN:STANDARD
TZOFFSETFROM:+0200
TZOFFSETTO:+0100
TZNAME:CET
DTSTART:20241027T010000
END:STANDARD
END:VTIMEZONE
BEGIN:VEVENT
DTSTART;TZID=Europe/Berlin:20240515T090000
DTEND;TZID=Europe/Berlin:20240515T100000
DTSTAMP:20260422T185130
CREATED:20240531T142506Z
LAST-MODIFIED:20250809T092353Z
UID:6312-1715763600-1715767200@netzwerk-zukunftsforschung.de
SUMMARY:Futurologisches Frühstück: Business Wargaming
DESCRIPTION:Am 15. Mai stellt uns Prof. Dr. Jan Oliver Schwarz mit dem so genannten Business Wargaming eine dynamische Simulationstechnik vor. Ziel des Business Wargamings ist es\, die möglichen zukünftigen Dynamiken in einer Industrie und insbesondere die Aktionen und Reaktionen von Wettbewerbern zu antizipieren. In dem Vortrag werden die Mechanismen von Business Wargaming beschrieben und kritische Erfolgsfaktoren diskutiert.\n\n\n\n\n\n\nWeitere Informationen:\n\n\n\n\n\n\nhttps://www.thi.de/personen/prof-dr-jan-oliver-schwarz/\n\n\n\n\n\n\nWir freuen uns auf Ihre Teilnahme!
URL:https://netzwerk-zukunftsforschung.de/veranstaltung/futurologisches-fruehstueck-business-wargaming/
LOCATION:Online-Veranstaltung
CATEGORIES:Futurologisches Frühstück
ATTACH;FMTTYPE=image/jpeg:https://netzwerk-zukunftsforschung.de/wp-content/uploads/2024/05/ChatGPT-Image-9.-Aug.-2025-11_02_53_ff.jpg
END:VEVENT
END:VCALENDAR