BEGIN:VCALENDAR
VERSION:2.0
PRODID:-//Netzwerk Zukunftsforschung - ECPv5.16.4//NONSGML v1.0//EN
CALSCALE:GREGORIAN
METHOD:PUBLISH
X-WR-CALNAME:Netzwerk Zukunftsforschung
X-ORIGINAL-URL:https://netzwerk-zukunftsforschung.de
X-WR-CALDESC:Events for Netzwerk Zukunftsforschung
REFRESH-INTERVAL;VALUE=DURATION:PT1H
X-Robots-Tag:noindex
X-PUBLISHED-TTL:PT1H
BEGIN:VTIMEZONE
TZID:Europe/Berlin
BEGIN:DAYLIGHT
TZOFFSETFROM:+0100
TZOFFSETTO:+0200
TZNAME:CEST
DTSTART:20240331T010000
END:DAYLIGHT
BEGIN:STANDARD
TZOFFSETFROM:+0200
TZOFFSETTO:+0100
TZNAME:CET
DTSTART:20241027T010000
END:STANDARD
END:VTIMEZONE
BEGIN:VEVENT
DTSTART;TZID=Europe/Berlin:20240216T080000
DTEND;TZID=Europe/Berlin:20240216T170000
DTSTAMP:20260420T123253
CREATED:20240222T171053Z
LAST-MODIFIED:20240222T171053Z
UID:6244-1708070400-1708102800@netzwerk-zukunftsforschung.de
SUMMARY:Futurologisches Frühstück: Neue Horizonte 2045 – Missionen für Deutschland
DESCRIPTION:Bei unserem ersten Futurologischen Frühstück 2024 wird unser langjähriges Mitglied Beate Schulz-Montag einige Kernergebnisse aus dem Szenarioprojekt „Neue Horizonte 2045 – Missionen für Deutschland“ vorstellen und mit Ihnen diskutieren.\n\n\n\n\n\n\nBeate Schulz-Montag arbeitet seit 1990 als Zukunftsforscherin und Beraterin für Unternehmen und öffentliche Auftraggeber. Sie ist Partnerin des foresightlab in Berlin und im Vorstand des gemeinnützigen Vereins D2030 – Deutschland neu denken e. V.\n\n\n\n\n\n\nWeitere Informationen:\nhttps://www.d2030.de/neue-horizonte/\nhttps://www.linkedin.com/in/beate-schulz-montag-43b027234/\n\n\n\n\n\n\nWie immer freuen wir uns auf Ihre rege Teilnahme und einen guten Gedankenaustausch!\n\n\n\n\n\n\nSave the date: Merken Sie sich gerne auch schon jetzt den 15. März vor\, ebenfalls von 9:00 bis 10:00 Uhr online. Beim Futurologischen Frühstück im März wird Dr. Kerstin Cuhls uns das Foresight Projekt CIRCADIA näherbringen\, bei dem mit Chronobiologie und circadianen Rhythmen Zukunftsthemen des ersten BMBF-Foresights im Mittelpunkt standen. Einladung folgt.
URL:https://netzwerk-zukunftsforschung.de/veranstaltung/futurologisches-fruehstueck-neue-horizonte-2045-missionen-fuer-deutschland/
LOCATION:Online-Veranstaltung
CATEGORIES:Futurologisches Frühstück
ATTACH;FMTTYPE=image/png:https://netzwerk-zukunftsforschung.de/wp-content/uploads/2021/09/nzf_logo-gross.png
END:VEVENT
END:VCALENDAR